BEGIN:VCALENDAR
VERSION:2.0
PRODID:-//ZKfN//Event//DE
TIMEZONE-ID:Europe/Berlin
X-WR-TIMEZONE:Europe/Berlin
BEGIN:VEVENT
UID:-998e84f6-3dee-50da-b28a-65cf2d51a359
SEQUENCE:0
DTSTAMP:20260424T092840
DTSTART;TZID=Europe/Berlin:20260518T160000
DTEND;TZID=Europe/Berlin:20260518T190000
SUMMARY:Eröffnung des temporären Klimagartens - OpenCultures lädt an de
 n Campus-Nord ein
LOCATION:Campus Nord der TU Braunschweig\nBienroder Weg 80-97\n\, 38106  B
 raunschweig
DESCRIPTION:Soft Opening des Schilfgartens am Campus Nord: Am 18. Mai ab 1
 6 Uhr lädt das OpenPlanning-Team des Klima.Zukunftslabors OpenCultures al
 le Interessierten ein\, den neu entstandenen Schilfgarten kennenzulernen. 
 Der gemeinschaftlich entwickelte Ort verbindet naturbasierte Lösungen geg
 en Hitze und Versiegelung mit sozialräumlicher Gestaltung. Er verbindet F
 orschung\, Praxis und Mitmachen – und lädt alle ein\, den Campus aktiv 
 mitzugestalten.\n\nInformationen zum Schilfgarten gib's auf der Website vo
 n OpenCultures:
URL;VALUE=URI:https://zkfn.de/schilfgarten_opening
CREATED:20260424T091127
LAST-MODIFIED:20260424T092801
END:VEVENT
END:VCALENDAR